BEGIN:VCALENDAR
VERSION:2.0
PRODID:-//eventon.com NONSGML v1.0//EN
CALSCALE:GREGORIAN
METHOD:PUBLISH
BEGIN:VEVENT
UID:69e5e901924fb
DTSTAMP:20260420T085113Z
DTSTART:20240202T163000Z
DTEND:20240203T003000Z
LOCATION:Online
SUMMARY:WA State Autism Center of Excellence (COE) Certification Training (Copy)
DESCRIPTION:University of Washington experts provide the Autism Center of E
 xcellence (COE) trainings through a contract with the Washington State Heal
 th Care Authority (HCA). The next scheduled training is Friday\,  September
  14 2024. Register: https://redcap.link/AutismCOEsept2024 The next training
 s will be Friday December 6\,  2024 and Friday January 31\,  2025. Registra
 tion will[..]\nhttps://medicalhome.org/events/wa-state-autism-center-of-exc
 ellence-coe-certification-training-copy/
URL:https://medicalhome.org/events/wa-state-autism-center-of-excellence-coe-certification-training-copy/
END:VEVENT
END:VCALENDAR