BEGIN:VCALENDAR
VERSION:2.0
PRODID:-//eventon.com NONSGML v1.0//EN
CALSCALE:GREGORIAN
METHOD:PUBLISH
BEGIN:VEVENT
UID:69e6138453bbd
DTSTAMP:20260420T115236Z
DTSTART:20230824T170000Z
DTEND:20230824T180000Z
LOCATION:Online
SUMMARY:Access & Equity in Medicaid: Robust Primary Care is a Must
DESCRIPTION:Do you want to improve access to high-value health care for rur
 al and underserved communities? Experts will discuss key primary care payme
 nt and delivery strategies in Medicaid to enhance outcomes and equity. Thei
 r remarks will key off a new PCC report that examines proven and promising 
 practices for strengthening primary[..]\nhttps://medicalhome.org/events/acc
 ess-equity-in-medicaid-robust-primary-care-is-a-must/
URL:https://medicalhome.org/events/access-equity-in-medicaid-robust-primary-care-is-a-must/
END:VEVENT
END:VCALENDAR