BEGIN:VCALENDAR
VERSION:2.0
PRODID:-//eventon.com NONSGML v1.0//EN
CALSCALE:GREGORIAN
METHOD:PUBLISH
BEGIN:VEVENT
UID:69e651610052f
DTSTAMP:20260420T161633Z
DTSTART:20230929T153000Z
DTEND:20230929T233000Z
LOCATION:Online
SUMMARY:WA State Autism Center of Excellence Certification Training
DESCRIPTION:University of Washington experts provide the Autism Center of E
 xcellence (COE) trainings through a contract with the Health Care Authority
  (HCA). The next scheduled training is Friday\,  September 29\,  2023. Fli
 er Register: https://redcap.link/AutismCOE.Sept2023 We anticipate the trai
 ning after that to be January 2024.   If you would like to be put on the[
 ..]\nhttps://medicalhome.org/events/wa-state-autism-center-of-excellence-ce
 rtification-training/
URL:https://medicalhome.org/events/wa-state-autism-center-of-excellence-certification-training/
END:VEVENT
END:VCALENDAR