BEGIN:VCALENDAR
VERSION:2.0
PRODID:-//eventon.com NONSGML v1.0//EN
CALSCALE:GREGORIAN
METHOD:PUBLISH
BEGIN:VEVENT
UID:69e650dec0cb1
DTSTAMP:20260420T161422Z
DTSTART:20230223T190000Z
DTEND:20230223T201500Z
LOCATION:Online
SUMMARY:The Impact of Youth Voices in Transforming Pediatric Care
DESCRIPTION:Though children and adolescents are at the center of pediatrics
  as the recipients of care\,  their voices are often missing from conversat
 ions about how to transform the field to better meet their needs and suppor
 t their lifelong health. Inviting youth to the table during these efforts â
 €” and creating equitable[..]\nhttps://medicalhome.org/events/the-impact-of
 -youth-voices-in-transforming-pediatric-care/
URL:https://medicalhome.org/events/the-impact-of-youth-voices-in-transforming-pediatric-care/
END:VEVENT
END:VCALENDAR