BEGIN:VCALENDAR
VERSION:2.0
PRODID:-//eventon.com NONSGML v1.0//EN
CALSCALE:GREGORIAN
METHOD:PUBLISH
BEGIN:VEVENT
UID:69e6006e65bf6
DTSTAMP:20260420T103110Z
DTSTART:20230123T200000Z
DTEND:20230123T210000Z
LOCATION:Online
SUMMARY:Understanding the Strengths and Needs of Rural Public Health- WA Public Health Workforce Interest and Needs Survey Findings
DESCRIPTION:The Public Health Workforce Interest and Needs Survey (PHWINS) 
 provides data for examining differences in competencies\,  training needs\,
   and turnover risk between rural and urban public health practitioners. Un
 derstanding these differences provides insight into steps that can be taken
  to strengthen the capacities of our rural public health workforce. The Ja
 nuary[..]\nhttps://medicalhome.org/events/understanding-the-strengths-and-n
 eeds-of-rural-public-health-wa-public-health-workforce-interest-and-needs-s
 urvey-findings/
URL:https://medicalhome.org/events/understanding-the-strengths-and-needs-of-rural-public-health-wa-public-health-workforce-interest-and-needs-survey-findings/
END:VEVENT
END:VCALENDAR