BEGIN:VCALENDAR
VERSION:2.0
PRODID:-//eventon.com NONSGML v1.0//EN
CALSCALE:GREGORIAN
METHOD:PUBLISH
BEGIN:VEVENT
UID:69e885ca2115c
DTSTAMP:20260422T082442Z
DTSTART:20230228T170000Z
DTEND:20230228T183000Z
LOCATION:Online
SUMMARY:Conversations with WA FQHC Leadership: Part 2: Addressing Health Disparities
DESCRIPTION:Join the Association for engaging panel discussions with WA FQH
 C leadership to learn about FQHCs as leaders in the primary care model\,  t
 he integration of care and addressing health disparities\,  and how they ar
 e an integral part of the FQHC mission\,  practices\,  programs and outcome
 s! Intended Audience: Health centers’ leadership[..]\nhttps://medicalhome
 .org/events/conversations-with-wa-fqhc-leadership-part-2-addressing-health-
 disparities/
URL:https://medicalhome.org/events/conversations-with-wa-fqhc-leadership-part-2-addressing-health-disparities/
END:VEVENT
END:VCALENDAR