BEGIN:VCALENDAR
VERSION:2.0
PRODID:-//eventon.com NONSGML v1.0//EN
CALSCALE:GREGORIAN
METHOD:PUBLISH
BEGIN:VEVENT
UID:69ea10838e5c6
DTSTAMP:20260423T122851Z
DTSTART:20221011T160000Z
DTEND:20221011T173000Z
LOCATION:Online
SUMMARY:Involving Community Partners in Data and Policy Initiatives to Advance Health Equity
DESCRIPTION:A panel of experts from Washington State\,  Arizona and Utah wi
 ll  explore how state agencies\,  CBOs\,  and community members in these s
 tates are partnering to advance health equity through data sharing and poli
 cy reform activities. Participants will learn about opportunities to meanin
 gfully partner with community members to promote health equity[..]\nhttps:/
 /medicalhome.org/events/involving-community-partners-in-data-and-policy-ini
 tiatives-to-advance-health-equity/
URL:https://medicalhome.org/events/involving-community-partners-in-data-and-policy-initiatives-to-advance-health-equity/
END:VEVENT
END:VCALENDAR