BEGIN:VCALENDAR
VERSION:2.0
PRODID:-//eventon.com NONSGML v1.0//EN
CALSCALE:GREGORIAN
METHOD:PUBLISH
BEGIN:VEVENT
UID:69e4cc94e1c21
DTSTAMP:20260419T123740Z
DTSTART:20221020T160000Z
DTEND:20221020T230000Z
LOCATION:Online
SUMMARY:2022 Southwest WA Autism Conference: Growing Through Education and Empowerment
DESCRIPTION:Join us for the 12th annual Southwest Washington Autism Confere
 nce on Thursday\,  October 20\,  from 9 am to 4 pm virtually via Zoom event
 s! This year’s conference includes over 20 live and pre-recorded present
 ations focused on topics surrounding autism\,  resources and training\,  an
 d advocacy. Join us as we grow as people[..]\nhttps://medicalhome.org/event
 s/2022-southwest-wa-autism-conference-growing-through-education-and-empower
 ment/
URL:https://medicalhome.org/events/2022-southwest-wa-autism-conference-growing-through-education-and-empowerment/
END:VEVENT
END:VCALENDAR