BEGIN:VCALENDAR
VERSION:2.0
PRODID:-//eventon.com NONSGML v1.0//EN
CALSCALE:GREGORIAN
METHOD:PUBLISH
BEGIN:VEVENT
UID:69e4c16fc8dd4
DTSTAMP:20260419T115007Z
DTSTART:20220214
DTEND:20220215
LOCATION:Portland\,  OR
SUMMARY:Adelante: Building Resilience & Strength for a Healthy & Just Recovery
DESCRIPTION:2022 Western Forum for Migrant and Community Health This yearâ€
 ™s Western Forum theme: â€śAdelante: Building Resilience &amp; Strength for
  a Healthy &amp; Just Recoveryâ€ť recognizes the journey\,  the work\,  the
  innovation\,  and the sacrifices we have made over the past couple years b
 y our frontline colleagues\,  communities\,  and partners. Itâ€™s[..]\nhttp
 s://medicalhome.org/events/adelante-building-resilience-strength-for-a-heal
 thy-just-recovery/
URL:https://medicalhome.org/events/adelante-building-resilience-strength-for-a-healthy-just-recovery/
END:VEVENT
END:VCALENDAR