BEGIN:VCALENDAR
VERSION:2.0
PRODID:-//eventon.com NONSGML v1.0//EN
CALSCALE:GREGORIAN
METHOD:PUBLISH
BEGIN:VEVENT
UID:69e89bc422198
DTSTAMP:20260422T095828Z
DTSTART:20210916T030000Z
DTEND:20210915T223000Z
LOCATION:Online
SUMMARY:Virtual Pediatric Care Symposium: Quest for Excellence in Pediatric Care
DESCRIPTION:Registration is now open for the Virtual Pediatric Care Symposi
 um: Quest for Excellence in Pediatric Care to be held September 15\,  2021 
 . Topics on the agenda for this year’s conference are: ·        
 Pediatric Oncology ·        Adolescent Eating Disorders ·    
     Caregiver Resiliency ·        And more . . . CNE hours wil
 l be provided. Providence[..]\nhttps://medicalhome.org/events/virtual-pedia
 tric-care-symposium-quest-for-excellence-in-pediatric-care/
URL:https://medicalhome.org/events/virtual-pediatric-care-symposium-quest-for-excellence-in-pediatric-care/
END:VEVENT
END:VCALENDAR