BEGIN:VCALENDAR
VERSION:2.0
PRODID:-//eventon.com NONSGML v1.0//EN
CALSCALE:GREGORIAN
METHOD:PUBLISH
BEGIN:VEVENT
UID:69e5e48a0dc5c
DTSTAMP:20260420T083210Z
DTSTART:20211027
DTEND:20211028
LOCATION:Online
SUMMARY:Sea Mar Community Health Centers 16th Annual Latino Health Forum - 2021
DESCRIPTION:Save The Date! Sea Mar Community Health Centers 16th Annual Lat
 ino Health Forum October 27 &amp; 29\,  2021 Online Virtual Conference Lear
 n more about the Annual Latino Health forum &#8211; 2021 information coming
  soon\nhttps://medicalhome.org/events/sea-mar-community-health-centers-16th
 -annual-latino-health-forum-2021/
URL:https://medicalhome.org/events/sea-mar-community-health-centers-16th-annual-latino-health-forum-2021/
END:VEVENT
END:VCALENDAR