BEGIN:VCALENDAR
VERSION:2.0
PRODID:-//eventon.com NONSGML v1.0//EN
CALSCALE:GREGORIAN
METHOD:PUBLISH
BEGIN:VEVENT
UID:69e623b459d7f
DTSTAMP:20260420T130140Z
DTSTART:20210717T150000Z
DTEND:20210717T203000Z
LOCATION:Online
SUMMARY:Preventing Childhood Lead (Pb) Poisoning - Free virtual CNE
DESCRIPTION:King County Medical Society (KCMS) is offering both a CNE (Cont
 inuing Nursing Education- Sat\,  July 17th) and CME (Continuing Medical Edu
 cation- Sat\,  July 24th) focused on Preventing Childhood Lead Poisoning in
  collaboration with Public Health – Seattle &amp; King County and UW Medi
 cine.  Each offering is FREE and worth 4.75 AMA PRA Category[..]\nhttps
 ://medicalhome.org/events/preventing-childhood-lead-pb-poisoning-free-virtu
 al-cne/
URL:https://medicalhome.org/events/preventing-childhood-lead-pb-poisoning-free-virtual-cne/
END:VEVENT
END:VCALENDAR