BEGIN:VCALENDAR
VERSION:2.0
PRODID:-//eventon.com NONSGML v1.0//EN
CALSCALE:GREGORIAN
METHOD:PUBLISH
BEGIN:VEVENT
UID:69e635e46d134
DTSTAMP:20260420T141916Z
DTSTART:20210825T200000Z
DTEND:20210825T210000Z
LOCATION:Online
SUMMARY:Partnering to Make the Most of Child Development Supports
DESCRIPTION:“Help Me Grow\, ” “Learn the Signs. Act Early\, ” and 
 Vroom” all promote healthy child development and help lay the foundatio
 n for lifelong health and well-being.  “Help Me Grow Washington” is a 
 movement to offer families seamless access to community services and suppor
 ts. “Learn the Signs. Act Early” provides an easy[..]\nhttps://medicalh
 ome.org/events/partnering-to-make-the-most-of-child-development-supports/
URL:https://medicalhome.org/events/partnering-to-make-the-most-of-child-development-supports/
END:VEVENT
END:VCALENDAR