BEGIN:VCALENDAR
VERSION:2.0
PRODID:-//eventon.com NONSGML v1.0//EN
CALSCALE:GREGORIAN
METHOD:PUBLISH
BEGIN:VEVENT
UID:69e6496a13b22
DTSTAMP:20260420T154234Z
DTSTART:20210812
DTEND:20210813
LOCATION:Online
SUMMARY:Making History 2021: The Idaho Western Partnerships Conference on Human Services
DESCRIPTION:The Western Partnerships Conference on Human Services provides 
 quality disability and mental health training to human service professional
 s\,  teachers\,  counselors\,  parents\,  self advocates and community memb
 ers who serve and support individuals with developmental disabilities and m
 ental illness.  The conference attracts over 700 participants from Idaho a
 nd surrounding communities. Training sessions[..]\nhttps://medicalhome.org/
 events/making-history-2021-the-idaho-western-partnerships-conference-on-hum
 an-services/
URL:https://medicalhome.org/events/making-history-2021-the-idaho-western-partnerships-conference-on-human-services/
END:VEVENT
END:VCALENDAR