BEGIN:VCALENDAR
VERSION:2.0
PRODID:-//eventon.com NONSGML v1.0//EN
CALSCALE:GREGORIAN
METHOD:PUBLISH
BEGIN:VEVENT
UID:69e6606ae1d52
DTSTAMP:20260420T172042Z
DTSTART:20210715T180000Z
DTEND:20210715T193000Z
LOCATION:
SUMMARY:Aligning Quality Measures: Can We Measure What Matters More Efficiently?
DESCRIPTION:Join the Washington Health Alliance and Dr. Robert Bree Colla
 borative on Thursday\,  July 15\,  2021\,  from 11:00 am to 12:30 pm PT 
 for the Third Framework for Action Webinar\,  when we address the challen
 ge of measuring what matters as efficiently as possible. This webinar will 
 help purchasers\,  providers\,  and health plans identify ways they can tak
 e action[..]\nhttps://medicalhome.org/events/aligning-quality-measures-can-
 we-measure-what-matters-more-efficiently/
URL:https://medicalhome.org/events/aligning-quality-measures-can-we-measure-what-matters-more-efficiently/
END:VEVENT
END:VCALENDAR