BEGIN:VCALENDAR
VERSION:2.0
PRODID:-//eventon.com NONSGML v1.0//EN
CALSCALE:GREGORIAN
METHOD:PUBLISH
BEGIN:VEVENT
UID:69ead6d493ee2
DTSTAMP:20260424T023500Z
DTSTART:20211117T160000Z
DTEND:20211118T000000Z
LOCATION:Online
SUMMARY:Southwest Washington Autism Conference - Vision 2030- Inform- Influence - Innovate
DESCRIPTION: The 2021 Southwest Washington Autism Conference will be held 
 online all-day Wednesday\,  Nov 17. Be among the first to register at bit.
 ly/SWAC2021 Keynote speaker is Steve Silberman (author of Neurotribes)\,  o
 ther featured presenters include Siena Castellon (in conversation with Marc
 elle Ciampi) and McAlister Greiner Huynh (The Neurodivergent Teacher). Dani
 el Wendler and[..]\nhttps://medicalhome.org/events/southwest-washington-aut
 ism-conference-vision-2030-inform-influence-innovate/
URL:https://medicalhome.org/events/southwest-washington-autism-conference-vision-2030-inform-influence-innovate/
END:VEVENT
END:VCALENDAR