BEGIN:VCALENDAR
VERSION:2.0
PRODID:-//eventon.com NONSGML v1.0//EN
CALSCALE:GREGORIAN
METHOD:PUBLISH
BEGIN:VEVENT
UID:69ea21d535275
DTSTAMP:20260423T134245Z
DTSTART:20210924T154500Z
DTEND:20210924T230000Z
LOCATION:
SUMMARY:WA State Autism Center of Excellence (COE) Certification Training
DESCRIPTION:Seattle Children’s Autism Center and University of Washington
  experts provide the Autism Center of Excellence (COE) trainings through a 
 contract with the Health Care Authority (HCA). Purpose of the COE Training 
 To increase the number of qualified clinicians (COEs) across Washington Sta
 te who can appropriately diagnose children and youth with[..]\nhttps://medi
 calhome.org/events/wa-state-autism-center-of-excellence-coe-certification-t
 raining/
URL:https://medicalhome.org/events/wa-state-autism-center-of-excellence-coe-certification-training/
END:VEVENT
END:VCALENDAR