BEGIN:VCALENDAR
VERSION:2.0
PRODID:-//eventon.com NONSGML v1.0//EN
CALSCALE:GREGORIAN
METHOD:PUBLISH
BEGIN:VEVENT
UID:69e63c5b54238
DTSTAMP:20260420T144651Z
DTSTART:20200923T080000Z
DTEND:20200924T130000Z
LOCATION:Online
SUMMARY:2020 Inland Northwest State of Reform Virtual Health Policy Conference
DESCRIPTION:&#8220;Bridging the Gap Between Health Care and Health Policy&#
 8221; The eighth annual Inland Northwest State of Reform Virtual Health Pol
 icy Conference fosters a dialog about the unique opportunities and challeng
 es facing health care on the east side of Washington. State of Reform bring
 s together practitioners\,  thought leaders\,  and policy makers[..]\nhttps
 ://medicalhome.org/events/2020-inland-northwest-state-of-reform-virtual-hea
 lth-policy-conference/
URL:https://medicalhome.org/events/2020-inland-northwest-state-of-reform-virtual-health-policy-conference/
END:VEVENT
END:VCALENDAR