BEGIN:VCALENDAR
VERSION:2.0
PRODID:-//eventon.com NONSGML v1.0//EN
CALSCALE:GREGORIAN
METHOD:PUBLISH
BEGIN:VEVENT
UID:69e7a815777a4
DTSTAMP:20260421T163845Z
DTSTART:20200826T073000Z
DTEND:20200826T083000Z
LOCATION:
SUMMARY:Pierce County Help Me Grow 101 (webinar)
DESCRIPTION:What are the range of community supports available to Pierce Co
 unty families with young children\,  and how have providers adapted their s
 ervices to work with families virtually? Join the Help Me Grow Pierce Count
 y team and local providers to learn the basics of how families can get conn
 ected to community[..]\nhttps://medicalhome.org/events/pierce-county-help-m
 e-grow-101-webinar/
URL:https://medicalhome.org/events/pierce-county-help-me-grow-101-webinar/
END:VEVENT
END:VCALENDAR