BEGIN:VCALENDAR
VERSION:2.0
PRODID:-//eventon.com NONSGML v1.0//EN
CALSCALE:GREGORIAN
METHOD:PUBLISH
BEGIN:VEVENT
UID:69ea95d95a904
DTSTAMP:20260423T215745Z
DTSTART:20200916T173000Z
DTEND:20200916T183000Z
LOCATION:Webinar
SUMMARY:WithinReach's Learning Series Virtual Event: Early Childhood Development
DESCRIPTION:&nbsp; WithinReach&#8217;s Learning Series (Virtual) Event: Ear
 ly Childhood Development About this Event Please join us for the WithinReac
 h Learning Series event onÂ September 16\,  2020.Â Hear from a panel of exp
 erts on one of today&#8217;s most complex and consequential health mattersâ
 €”early childhood development. Looking beyond the essential elements of mon
 itoring\,  milestones and[..]\nhttps://medicalhome.org/events/withinreachs-
 learning-series-virtual-event-early-childhood-development/
URL:https://medicalhome.org/events/withinreachs-learning-series-virtual-event-early-childhood-development/
END:VEVENT
END:VCALENDAR