BEGIN:VCALENDAR
VERSION:2.0
PRODID:-//eventon.com NONSGML v1.0//EN
CALSCALE:GREGORIAN
METHOD:PUBLISH
BEGIN:VEVENT
UID:69e86f20c1be0
DTSTAMP:20260422T064800Z
DTSTART:20200918T090000Z
DTEND:20200918T160000Z
LOCATION:Zoom video conference
SUMMARY:Autism Center of Excellence (COE) Certification Training
DESCRIPTION:CENTER OF EXCELLENCE (COE) certification allows eligible provid
 ers to diagnose autism spectrum disorder for pediatric patients with Medica
 id Choose between two dates for the online training:  Friday July 31 or Fr
 iday September 18\,  2020      Presenters: Gary Stobbe\,  MD: Attending
  Neurologist\,  Seattle Children’s Autism Center; Director\,  UW Medicine
  Adult Autism[..]\nhttps://medicalhome.org/events/autism-center-of-excellen
 ce-coe-certification-training-copy/
URL:https://medicalhome.org/events/autism-center-of-excellence-coe-certification-training-copy/
END:VEVENT
END:VCALENDAR