BEGIN:VCALENDAR
VERSION:2.0
PRODID:-//eventon.com NONSGML v1.0//EN
CALSCALE:GREGORIAN
METHOD:PUBLISH
BEGIN:VEVENT
UID:69e4e874baca2
DTSTAMP:20260419T143636Z
DTSTART:20200321T080000Z
DTEND:20200321T123000Z
LOCATION:Double Tree by Hilton Hotel Olympia 415 Capitol Way North\,  Olympia WA 98501
SUMMARY:Partnership Access Line (PAL) Mental Health Conference - Olympia
DESCRIPTION:About this Event Seattle Children&#8217;s PAL Program is hostin
 g a free educational conference for primary care providers. Join us at the 
 DoubleTree in Olympia to earn free CME credits; breakfast will be provided!
  Topics ​and ​Speakers: • ADHD &#8211; Rebecca Barclay\,  MD • Post
 partum Depression Screening &#8211; Deborah Cowley\,  MD[..]\nhttps://medic
 alhome.org/events/partnership-access-line-pal-mental-health-conference-olym
 pia/
URL:https://medicalhome.org/events/partnership-access-line-pal-mental-health-conference-olympia/
END:VEVENT
END:VCALENDAR