BEGIN:VCALENDAR
VERSION:2.0
PRODID:-//eventon.com NONSGML v1.0//EN
CALSCALE:GREGORIAN
METHOD:PUBLISH
BEGIN:VEVENT
UID:69e54f89d5933
DTSTAMP:20260419T215625Z
DTSTART:20190923T120000Z
DTEND:20190923T130000Z
LOCATION:
SUMMARY:Strengthening Tribal Public Health Partnerships
DESCRIPTION:Topic: Strengthening Tribal Public Health Partnerships Descript
 ion: Tribal community members work hard to protect and promote the health o
 f their people. In the September session of Hot Topics in Practice\,  Tamar
 a Fulwyler shares how non-tribal public health agencies can better collabor
 ate with tribal entities to support these efforts. This one-hour[..]\nhttps
 ://medicalhome.org/events/strengthening-tribal-public-health-partnerships/
URL:https://medicalhome.org/events/strengthening-tribal-public-health-partnerships/
END:VEVENT
END:VCALENDAR