BEGIN:VCALENDAR
VERSION:2.0
PRODID:-//eventon.com NONSGML v1.0//EN
CALSCALE:GREGORIAN
METHOD:PUBLISH
BEGIN:VEVENT
UID:69e7b07f73f2e
DTSTAMP:20260421T171439Z
DTSTART:20190921
DTEND:20190922
LOCATION:Sleeping Lady Resort - Leavenworth WA 7375 Icicle Road Suite 200 Leavenworth\,  Washington 98826
SUMMARY:North Pacific Pediatric Society 198th Scientific Meeting & Conference - Leavenworth
DESCRIPTION:North Pacific Pediatric Society 198th Scientific Meeting & Conf
 erence - Leavenworth\nhttps://medicalhome.org/events/north-pacific-pediatri
 c-society-198th-scientific-meeting-conference-leavenworth/
URL:https://medicalhome.org/events/north-pacific-pediatric-society-198th-scientific-meeting-conference-leavenworth/
END:VEVENT
END:VCALENDAR