BEGIN:VCALENDAR
VERSION:2.0
PRODID:-//eventon.com NONSGML v1.0//EN
CALSCALE:GREGORIAN
METHOD:PUBLISH
BEGIN:VEVENT
UID:69e79a6ce8a2b
DTSTAMP:20260421T154028Z
DTSTART:20191106T090000Z
DTEND:20191106T150000Z
LOCATION:Centralia College 600 Centralia College Blvd\,  Centralia\,  WA 98531
SUMMARY:Southwest Washington Autism Conference
DESCRIPTION:&nbsp; Hosted by Lewis County Autism Coalition Working Together
  in Southwest Washington Registration link. Conference flyer link.\nhttps:/
 /medicalhome.org/events/southwest-washington-autism-conference/
URL:https://medicalhome.org/events/southwest-washington-autism-conference/
END:VEVENT
END:VCALENDAR