BEGIN:VCALENDAR
VERSION:2.0
PRODID:-//eventon.com NONSGML v1.0//EN
CALSCALE:GREGORIAN
METHOD:PUBLISH
BEGIN:VEVENT
UID:69e4cfc62260d
DTSTAMP:20260419T125118Z
DTSTART:20191024
DTEND:20191025
LOCATION:Washington State Convention Center
SUMMARY:Advanced Practice in Primary and Acute Care 2019
DESCRIPTION:This conference offers healthcare clinicians an opportunity to 
 validate and enhance clinical competencies\,  acquire new assessment and ma
 nagement skills\,  examine critical issues in health care at the state and 
 national level\,  network with colleagues in advanced practice\,  and learn
  about new products\,  services and pharmacotherapeutic agents. Conference 
 faculty include distinguished[..]\nhttps://medicalhome.org/events/advanced-
 practice-in-primary-and-acute-care-2019/
URL:https://medicalhome.org/events/advanced-practice-in-primary-and-acute-care-2019/
END:VEVENT
END:VCALENDAR