BEGIN:VCALENDAR
VERSION:2.0
PRODID:-//eventon.com NONSGML v1.0//EN
CALSCALE:GREGORIAN
METHOD:PUBLISH
BEGIN:VEVENT
UID:69e4e330e586a
DTSTAMP:20260419T141408Z
DTSTART:20190723T120000Z
DTEND:20190723T130000Z
LOCATION:
SUMMARY:Comics for Health Promotion
DESCRIPTION:What kinds of messages are you drawn to? In the July session of
  Hot Topics in Practice\,  cartoonist and communications specialist Meredit
 h Li-Vollmer\,  PhD\,  explores how comics can be used for creative public 
 health messaging. This one-hour webinar will introduce the field of graphic
  medicine and speak to how the[..]\nhttps://medicalhome.org/events/comics-f
 or-health-promotion/
URL:https://medicalhome.org/events/comics-for-health-promotion/
END:VEVENT
END:VCALENDAR