BEGIN:VCALENDAR
VERSION:2.0
PRODID:-//eventon.com NONSGML v1.0//EN
CALSCALE:GREGORIAN
METHOD:PUBLISH
BEGIN:VEVENT
UID:69eb191a063b0
DTSTAMP:20260424T071746Z
DTSTART:20190730T120000Z
DTEND:20190730T130000Z
LOCATION:
SUMMARY:Screening Youth for Suicide Risk
DESCRIPTION:Screening Youth for Suicide Risk Tuesday\,  July 30\,  2019 12:
 00:00 PM PDT &#8211; 01:00:00 PM PDT The suicide rate among U.S. youth and 
 young adults\,  ages 10 to 24\,  has risen in recent years\,  increasing by
  nearly 50 percent between 2007 and 2017\,  and reaching its highest point 
 since 2000[..]\nhttps://medicalhome.org/events/screening-youth-for-suicide-
 risk/
URL:https://medicalhome.org/events/screening-youth-for-suicide-risk/
END:VEVENT
END:VCALENDAR