BEGIN:VCALENDAR
VERSION:2.0
PRODID:-//eventon.com NONSGML v1.0//EN
CALSCALE:GREGORIAN
METHOD:PUBLISH
BEGIN:VEVENT
UID:69ea1a3c5e431
DTSTAMP:20260423T131020Z
DTSTART:20190406T080000Z
DTEND:20190406T123000Z
LOCATION:Washington State Convention Center
SUMMARY:Genetics in Your Practice: A Half Day Workshop - Seattle
DESCRIPTION:“Genetics in Your Practice” is a unique opportunity for pri
 mary care practitioners to learn how genetics and genomics are affecting th
 eir practice and patient interactions.  Primary care providers (physicians
  specializing in pediatrics\,  internal medicine\,  family medicine\,  obst
 etrics and gynecology)\,  advanced registered nurse practitioners\,  and ph
 ysician assistants encounter patients who have or[..]\nhttps://medicalhome
 .org/events/genetics-in-your-practice-a-half-day-workshop/
URL:https://medicalhome.org/events/genetics-in-your-practice-a-half-day-workshop/
END:VEVENT
END:VCALENDAR