BEGIN:VCALENDAR
VERSION:2.0
PRODID:-//eventon.com NONSGML v1.0//EN
CALSCALE:GREGORIAN
METHOD:PUBLISH
BEGIN:VEVENT
UID:69e89b5c6899e
DTSTAMP:20260422T095644Z
DTSTART:20190313T173000Z
DTEND:20190313T222100Z
LOCATION:
SUMMARY:Nursing Care of Patients with Substance Use Disorders in Primary Care Settings- Webinar Series March- June
DESCRIPTION:Specialty Program 2019 &#8211; CARN Certification Prep March 13
 \,  2019 to June 19\,  2019 &#8211; Webinar Series DESCRIPTION The Univer
 sities of Washington State (WSU and UW) with DOH will jointly offer a 15-we
 ek webinar-based course in addiction nursing. The goal is to provide update
 d information that nurses and their care teams can[..]\nhttps://medicalhome
 .org/events/nursing-care-of-patients-with-substance-use-disorders-in-primar
 y-care-settings-webinar-series-march-june/
URL:https://medicalhome.org/events/nursing-care-of-patients-with-substance-use-disorders-in-primary-care-settings-webinar-series-march-june/
END:VEVENT
END:VCALENDAR