BEGIN:VCALENDAR
VERSION:2.0
PRODID:-//eventon.com NONSGML v1.0//EN
CALSCALE:GREGORIAN
METHOD:PUBLISH
BEGIN:VEVENT
UID:69eb22d613716
DTSTAMP:20260424T075918Z
DTSTART:20190219T173000Z
DTEND:20190219T203000Z
LOCATION:Brigid Collins\,  1231 N Garden St\,  Bellingham\,  WA 98225
SUMMARY:The Power of Connection: What Research on ACEs\,  Neurobiology and Resilience Tells Us - Bellingham
DESCRIPTION:&nbsp; 3 Washington State Clock Hours Available Presented by Wa
 &#8217;Lynn Sheridan\,  Heather Jefferson and Rochelle Hollowell Registrat
 ion is $20 per person to attend. Space limited to 40 participants. Registe
 r online at Brown Paper Tickets to secure your spot: https://powerfeb19.bp
 t.me/ The Power of Connection: What Research on ACEs\,  Neurobiology\,  and
  Resilience Tells Us Whatcom[..]\nhttps://medicalhome.org/events/the-power-
 of-connection-what-research-on-aces-neurobiology-and-resilience-tells-us-be
 llingham/
URL:https://medicalhome.org/events/the-power-of-connection-what-research-on-aces-neurobiology-and-resilience-tells-us-bellingham/
END:VEVENT
END:VCALENDAR