BEGIN:VCALENDAR
VERSION:2.0
PRODID:-//eventon.com NONSGML v1.0//EN
CALSCALE:GREGORIAN
METHOD:PUBLISH
BEGIN:VEVENT
UID:69e8ecb3b0369
DTSTAMP:20260422T154347Z
DTSTART:20190608T080000Z
DTEND:20190608T160000Z
LOCATION:SeaTac Conference Center SeaTac\,  WA
SUMMARY:Pediatric Population Health Forum - SeaTac
DESCRIPTION:Save the date! 2019 Pediatric Population Health Forum Save the 
 date for our 5th Pediatric Population Health Forum. Learn strategies to int
 egrate care and improve outcomes from leaders and clinicians at the forefro
 nt of value-based care in pediatrics. Topics will include: Patient-centered
  care Addressing social determinants of health How to[..]\nhttps://medicalh
 ome.org/events/pediatric-population-health-forum-seatac/
URL:https://medicalhome.org/events/pediatric-population-health-forum-seatac/
END:VEVENT
END:VCALENDAR