BEGIN:VCALENDAR
VERSION:2.0
PRODID:-//eventon.com NONSGML v1.0//EN
CALSCALE:GREGORIAN
METHOD:PUBLISH
BEGIN:VEVENT
UID:69e8af514bc4f
DTSTAMP:20260422T112153Z
DTSTART:20190513
DTEND:20190514
LOCATION:Seattle Hyatt Regency Hotel
SUMMARY:Children's Justice Conference - Seattle
DESCRIPTION:Why Attend the Children&#8217;s Justice Conference? The Childre
 n&#8217;s Justice Conference (CJC) is the largest child welfare related con
 ference in the Pacific Northwest. The CJC provides core and advanced traini
 ng and skill development in the identification\,  investigation\,  and trea
 tment of child maltreatment. You will have unparalleled opportunities to le
 arn and network[..]\nhttps://medicalhome.org/events/childrens-justice-confe
 rence-seattle/
URL:https://medicalhome.org/events/childrens-justice-conference-seattle/
END:VEVENT
END:VCALENDAR