BEGIN:VCALENDAR
VERSION:2.0
PRODID:-//eventon.com NONSGML v1.0//EN
CALSCALE:GREGORIAN
METHOD:PUBLISH
BEGIN:VEVENT
UID:69e89c51cd616
DTSTAMP:20260422T100049Z
DTSTART:20190306
DTEND:20190307
LOCATION:The Westin Bayshore 1601 Bayshore Dr\,  Vancouver\,  BC V6G 2V4 Canada
SUMMARY:Fetal Alcohol Spectrum Disorder: Research\,  Results & Relevance - 8th Int'l Conf-Vancouver\,  BC
DESCRIPTION:&#8220;Research\,  Results and Relevance: Integrating Research
 \,  Policy and Promising Practice Around the World&#8221; This advanced lev
 el conference/meeting continues to bring together global experts from multi
 ple disciplines to share international research.It provides an opportunity 
 to enhance understanding of the relationships between knowledge and researc
 h and critical actions related to FASD. Who should[..]\nhttps://medicalhome
 .org/events/8th-intl-conf-on-fetal-alcohol-spectrum-disorder-research-resul
 ts-relevance-vancouver-bc/
URL:https://medicalhome.org/events/8th-intl-conf-on-fetal-alcohol-spectrum-disorder-research-results-relevance-vancouver-bc/
END:VEVENT
END:VCALENDAR