BEGIN:VCALENDAR
VERSION:2.0
PRODID:-//eventon.com NONSGML v1.0//EN
CALSCALE:GREGORIAN
METHOD:PUBLISH
BEGIN:VEVENT
UID:69e8841b3a5cc
DTSTAMP:20260422T081731Z
DTSTART:20190613
DTEND:20190614
LOCATION:Vancouver\,  WA
SUMMARY:2019 WA Behavioral Healthcare Conference - Vancouver
DESCRIPTION:&#8220;Cultivating Community Solutions&#8221; We invite you to 
 join us at the 30th annual Washington Behavioral Healthcare Conference! The
  conference brings together a diverse group of presenters to share informat
 ion about therapeutic interventions\,  recovery supports\,  promising progr
 ams\,  and policies that advance best practices. Our goal is to provide a l
 earning experience[..]\nhttps://medicalhome.org/events/2019-wa-behavioral-h
 ealthcare-conference-vancouver/
URL:https://medicalhome.org/events/2019-wa-behavioral-healthcare-conference-vancouver/
END:VEVENT
END:VCALENDAR