BEGIN:VCALENDAR
VERSION:2.0
PRODID:-//eventon.com NONSGML v1.0//EN
CALSCALE:GREGORIAN
METHOD:PUBLISH
BEGIN:VEVENT
UID:69e870d20ea83
DTSTAMP:20260422T065514Z
DTSTART:20190507
DTEND:20190508
LOCATION:Talaris Conference Center
SUMMARY:Assuring Pediatric Nutrition in the Hospital and Community - Seattle
DESCRIPTION:This conference provides up-to-date\,  evidence-based pediatric
  nutrition information for  Registered Dietitians (RDs). This training is 
 an excellent addition to the RD&#8217;s Professional Development Portfolio 
 and can be used to help document the dietitian&#8217;s competencies with ch
 ildren of different ages as required by JCAHO. At the end of the conference
 \,  participants[..]\nhttps://medicalhome.org/events/assuring-pediatric-nut
 rition-in-the-hospital-and-community-seattle/
URL:https://medicalhome.org/events/assuring-pediatric-nutrition-in-the-hospital-and-community-seattle/
END:VEVENT
END:VCALENDAR