BEGIN:VCALENDAR
VERSION:2.0
PRODID:-//eventon.com NONSGML v1.0//EN
CALSCALE:GREGORIAN
METHOD:PUBLISH
BEGIN:VEVENT
UID:69e85d1c761ad
DTSTAMP:20260422T053108Z
DTSTART:20190412
DTEND:20190413
LOCATION:Moses Lake\,  WA
SUMMARY:North Central ACH 2019 Annual Summit - Moses Lake
DESCRIPTION:The North Central Accountable Community of Health (NCACH)&#8217
 ; s 2019 Annual Summit will be April 12\,  2019 in Moses Lake\,  WA. The co
 nference is an opportunity for leaders\,  healthcare providers\,  healthcar
 e consumers\,  community-based organizations\,  staff\,  board members\,  s
 takeholders and policy makers to network\,  learn and share with their pee
 rs. The focus[..]\nhttps://medicalhome.org/events/north-central-ach-2019-an
 nual-summit-moses-lake/
URL:https://medicalhome.org/events/north-central-ach-2019-annual-summit-moses-lake/
END:VEVENT
END:VCALENDAR